BEGIN:VCALENDAR
VERSION:2.0
PRODID:-//eventon.com NONSGML v1.0//EN
BEGIN:VEVENT
UID:69e7374dc7c61
DTSTAMP:20260421T023733
DTSTART:20250413T130000Z
DTEND:20250413T200000Z
TZID:America/Mexico_City
LOCATION:
SUMMARY:Maratón de Paris
DESCRIPTION: Maratón de Paris\nhttps://runpedia.mx/events/maraton-de-paris/
URL:https://runpedia.mx/events/maraton-de-paris/
END:VEVENT
END:VCALENDAR