BEGIN:VCALENDAR
VERSION:2.0
PRODID:-//eventon.com NONSGML v1.0//EN
BEGIN:VEVENT
UID:69e73631b32f8
DTSTAMP:20260421T023249
DTSTART:20250413T120000Z
DTEND:20250413T210000Z
TZID:America/Mexico_City
LOCATION:
SUMMARY:Maratón de Rotterdam
DESCRIPTION: Maratón de Rotterdam\nhttps://runpedia.mx/events/maraton-de-rotterdam/
URL:https://runpedia.mx/events/maraton-de-rotterdam/
END:VEVENT
END:VCALENDAR