BEGIN:VCALENDAR
VERSION:2.0
PRODID:-//eventon.com NONSGML v1.0//EN
BEGIN:VEVENT
UID:69e53e954cea0
DTSTAMP:20260419T144405
DTSTART:20260627T120000Z
DTEND:20260628T050000Z
TZID:America/Mexico_City
LOCATION:
SUMMARY:Xtrail Bernal Viñedos
DESCRIPTION: Xtrail Bernal Viñedos\nhttps://runpedia.mx/events/xtrail-bernal-vinedos-3/
URL:https://runpedia.mx/events/xtrail-bernal-vinedos-3/
END:VEVENT
END:VCALENDAR