BEGIN:VCALENDAR
VERSION:2.0
PRODID:-//eventon.com NONSGML v1.0//EN
BEGIN:VEVENT
UID:69e556575148b
DTSTAMP:20260419T162527
DTSTART:20260425T110000Z
DTEND:20260426T050000Z
TZID:America/Mexico_City
LOCATION:
SUMMARY:Cerro rojo
DESCRIPTION: Cerro rojo\nhttps://runpedia.mx/events/cerro-rojo-3/
URL:https://runpedia.mx/events/cerro-rojo-3/
END:VEVENT
END:VCALENDAR