BEGIN:VCALENDAR
VERSION:2.0
PRODID:-//eventon.com NONSGML v1.0//EN
BEGIN:VEVENT
UID:69e53e79e9de3
DTSTAMP:20260419T144337
DTSTART:20260516T120000Z
DTEND:20260517T020000Z
TZID:America/Mexico_City
LOCATION:
SUMMARY:Ultra Otomí
DESCRIPTION: Ultra Otomí\nhttps://runpedia.mx/events/ultra-otomi/
URL:https://runpedia.mx/events/ultra-otomi/
END:VEVENT
END:VCALENDAR