BEGIN:VCALENDAR
VERSION:2.0
PRODID:-//eventon.com NONSGML v1.0//EN
BEGIN:VEVENT
UID:69e73868c8f42
DTSTAMP:20260421T024216
DTSTART:20230319T130000Z
DTEND:20230319T130000Z
TZID:America/Mexico_City
LOCATION:
SUMMARY:Somos Intensas
DESCRIPTION: 19 Marzo 2023 &nbsp; Emoción deportiva-Reforma Distancia: 10k Más información: https://emociondeportiva.com/home/evento/4601/somos-intensas-10-km-2023#javascript:;\nhttps://runpedia.mx/events/somos-intensas/
URL:https://runpedia.mx/events/somos-intensas/
END:VEVENT
END:VCALENDAR